BEGIN:VCALENDAR
VERSION:2.0
PRODID:-//Michigan Municipal League - ECPv6.15.15//NONSGML v1.0//EN
CALSCALE:GREGORIAN
METHOD:PUBLISH
X-ORIGINAL-URL:https://mml.org
X-WR-CALDESC:Events for Michigan Municipal League
REFRESH-INTERVAL;VALUE=DURATION:PT1H
X-Robots-Tag:noindex
X-PUBLISHED-TTL:PT1H
BEGIN:VTIMEZONE
TZID:America/Detroit
BEGIN:DAYLIGHT
TZOFFSETFROM:-0500
TZOFFSETTO:-0400
TZNAME:EDT
DTSTART:20240310T070000
END:DAYLIGHT
BEGIN:STANDARD
TZOFFSETFROM:-0400
TZOFFSETTO:-0500
TZNAME:EST
DTSTART:20241103T060000
END:STANDARD
BEGIN:DAYLIGHT
TZOFFSETFROM:-0500
TZOFFSETTO:-0400
TZNAME:EDT
DTSTART:20250309T070000
END:DAYLIGHT
BEGIN:STANDARD
TZOFFSETFROM:-0400
TZOFFSETTO:-0500
TZNAME:EST
DTSTART:20251102T060000
END:STANDARD
BEGIN:DAYLIGHT
TZOFFSETFROM:-0500
TZOFFSETTO:-0400
TZNAME:EDT
DTSTART:20260308T070000
END:DAYLIGHT
BEGIN:STANDARD
TZOFFSETFROM:-0400
TZOFFSETTO:-0500
TZNAME:EST
DTSTART:20261101T060000
END:STANDARD
END:VTIMEZONE
BEGIN:VEVENT
DTSTART;TZID=America/Detroit:20250716T100000
DTEND;TZID=America/Detroit:20250716T150000
DTSTAMP:20260423T125158
CREATED:20250605T144648Z
LAST-MODIFIED:20250605T145436Z
UID:10000299-1752660000-1752678000@mml.org
SUMMARY:Local and State Government in the Age of AI: Innovation\, Civil Rights\, and Policy
DESCRIPTION:Join state administrators\, subject matter experts\, and municipal/county leaders for an in-depth look at the opportunities and challenges artificial intelligence (AI) presents for local and state governance and public policy. \nTopics include: \n\nAI 101: Myths and Realities\nAI and State Government: Strategies and Practices\nAI Policy and Implementation in Municipal Government\n\nHear from practitioners and experts from the: \n\nGerald R. Ford School of Public Policy\, University of Michigan\nMichigan Municipal League\nMichigan Department of Technology\, Management and Budget\nRepresentatives\n\nCity of Berkely\nCity of Dearborn\nCity of Grand Rapids\n\n\nAnd more!\n\nHosted by the MDCR Council on Government and Education\, this free event is designed for municipal and county level leaders. Program materials and lunch are provided at no cost to participants. Registration is now open and will close Thursday\, July 3. Registration is limited to 50 persons so do not hesitate to register today. \nASL interpreters and CART services will be provided for this event. If you require additional accommodations please contact\, Addell Anderson at andersona56@michigan.gov.
URL:https://mml.org/event/local-and-state-government-in-the-age-of-ai-innovation-civil-rights-and-policy/
LOCATION:Hilton Garden Inn Detroit/Novi\, 27355 Cabaret Drive\, Novi\, MI\, 48377\, United States
CATEGORIES:Non-League
ORGANIZER;CN="MDCR Council on Government and Education":MAILTO:andersona56@michigan.gov
END:VEVENT
END:VCALENDAR