BEGIN:VCALENDAR
VERSION:2.0
PRODID:-//Michigan Municipal League - ECPv6.15.15//NONSGML v1.0//EN
CALSCALE:GREGORIAN
METHOD:PUBLISH
X-ORIGINAL-URL:https://mml.org
X-WR-CALDESC:Events for Michigan Municipal League
REFRESH-INTERVAL;VALUE=DURATION:PT1H
X-Robots-Tag:noindex
X-PUBLISHED-TTL:PT1H
BEGIN:VTIMEZONE
TZID:America/Detroit
BEGIN:DAYLIGHT
TZOFFSETFROM:-0500
TZOFFSETTO:-0400
TZNAME:EDT
DTSTART:20240310T070000
END:DAYLIGHT
BEGIN:STANDARD
TZOFFSETFROM:-0400
TZOFFSETTO:-0500
TZNAME:EST
DTSTART:20241103T060000
END:STANDARD
BEGIN:DAYLIGHT
TZOFFSETFROM:-0500
TZOFFSETTO:-0400
TZNAME:EDT
DTSTART:20250309T070000
END:DAYLIGHT
BEGIN:STANDARD
TZOFFSETFROM:-0400
TZOFFSETTO:-0500
TZNAME:EST
DTSTART:20251102T060000
END:STANDARD
BEGIN:DAYLIGHT
TZOFFSETFROM:-0500
TZOFFSETTO:-0400
TZNAME:EDT
DTSTART:20260308T070000
END:DAYLIGHT
BEGIN:STANDARD
TZOFFSETFROM:-0400
TZOFFSETTO:-0500
TZNAME:EST
DTSTART:20261101T060000
END:STANDARD
BEGIN:DAYLIGHT
TZOFFSETFROM:-0500
TZOFFSETTO:-0400
TZNAME:EDT
DTSTART:20270314T070000
END:DAYLIGHT
BEGIN:STANDARD
TZOFFSETFROM:-0400
TZOFFSETTO:-0500
TZNAME:EST
DTSTART:20271107T060000
END:STANDARD
END:VTIMEZONE
BEGIN:VEVENT
DTSTART;TZID=America/Detroit:20260325T110000
DTEND;TZID=America/Detroit:20260325T120000
DTSTAMP:20260420T125955
CREATED:20260309T141012Z
LAST-MODIFIED:20260312T180513Z
UID:10000366-1774436400-1774440000@mml.org
SUMMARY:Don't Even Go There Webinar
DESCRIPTION:Sexual Harassment in the Modern Workplace. \nMany employers continue to struggle with issues like sexual harassment in the workplace\, despite their best efforts to curb such behavior. \nThere is no silver bullet to eliminate it\, but training is the best tool we have for addressing sexual harassment\, allowing employers to mitigate liability and comply with statutory and regulatory requirements. \nThis complimentary webinar will arm employers with the information they need in the seemingly endless battle against sexual harassment in the workplace.
URL:https://mml.org/event/plunkett-cooney-sexual-harassment-webinar/
CATEGORIES:Non-League
LOCATION:https://mml.org/event/plunkett-cooney-sexual-harassment-webinar/
END:VEVENT
BEGIN:VEVENT
DTSTART;TZID=America/Detroit:20251105T080000
DTEND;TZID=America/Detroit:20251105T120000
DTSTAMP:20260420T125955
CREATED:20251103T164116Z
LAST-MODIFIED:20251103T164748Z
UID:10000314-1762329600-1762344000@mml.org
SUMMARY:Kindred Spirits Employment Seminar
DESCRIPTION:Program Description\nThis fun\, fast paced and informative seminar will tell the story of Hades\, Michigan\, a fictional city haunted\, so it seems\, by a never-ending string of mysterious employment-related debacles. \nLike a paranormal crisis team being called in to help\, our intrepid band of attorneys will “travel” to Hades to help officials separate fact from fiction and rumor from legend. Will they succeed or fall prey to the city’s toxic witches’ brew of poor decision making\, failed regulatory compliance and lack of best employment law practices? \nJoin us (if you dare) as we explore a range of public- and private-sector employment law topics\, including internal investigations\, last chance agreements and the importance of consistent discipline\, among many others. \nYou can learn more here. \nWho Should Attend?\nThis program is designed to benefit elected and appointed municipal officials\, human resources professionals and employment liability insurance providers. Feel free to share this invitation with your colleagues. The more\, the scarier!
URL:https://mml.org/event/kindred-spirits-employment-seminar/
LOCATION:Kellogg Center – East Lansing\, 219 S Harrison Rd\, East Lansing\, MI\, 48824\, United States
END:VEVENT
END:VCALENDAR