BEGIN:VCALENDAR
VERSION:2.0
PRODID:-//Michigan Municipal League - ECPv6.15.15//NONSGML v1.0//EN
CALSCALE:GREGORIAN
METHOD:PUBLISH
X-WR-CALNAME:Michigan Municipal League
X-ORIGINAL-URL:https://mml.org
X-WR-CALDESC:Events for Michigan Municipal League
REFRESH-INTERVAL;VALUE=DURATION:PT1H
X-Robots-Tag:noindex
X-PUBLISHED-TTL:PT1H
BEGIN:VTIMEZONE
TZID:America/Detroit
BEGIN:DAYLIGHT
TZOFFSETFROM:-0500
TZOFFSETTO:-0400
TZNAME:EDT
DTSTART:20240310T070000
END:DAYLIGHT
BEGIN:STANDARD
TZOFFSETFROM:-0400
TZOFFSETTO:-0500
TZNAME:EST
DTSTART:20241103T060000
END:STANDARD
BEGIN:DAYLIGHT
TZOFFSETFROM:-0500
TZOFFSETTO:-0400
TZNAME:EDT
DTSTART:20250309T070000
END:DAYLIGHT
BEGIN:STANDARD
TZOFFSETFROM:-0400
TZOFFSETTO:-0500
TZNAME:EST
DTSTART:20251102T060000
END:STANDARD
BEGIN:DAYLIGHT
TZOFFSETFROM:-0500
TZOFFSETTO:-0400
TZNAME:EDT
DTSTART:20260308T070000
END:DAYLIGHT
BEGIN:STANDARD
TZOFFSETFROM:-0400
TZOFFSETTO:-0500
TZNAME:EST
DTSTART:20261101T060000
END:STANDARD
BEGIN:DAYLIGHT
TZOFFSETFROM:-0500
TZOFFSETTO:-0400
TZNAME:EDT
DTSTART:20270314T070000
END:DAYLIGHT
BEGIN:STANDARD
TZOFFSETFROM:-0400
TZOFFSETTO:-0500
TZNAME:EST
DTSTART:20271107T060000
END:STANDARD
END:VTIMEZONE
BEGIN:VEVENT
DTSTART;TZID=America/Detroit:20260310T083000
DTEND;TZID=America/Detroit:20260310T160000
DTSTAMP:20260420T095027
CREATED:20260112T205118Z
LAST-MODIFIED:20260112T205118Z
UID:10000347-1773131400-1773158400@mml.org
SUMMARY:2026 MAMA Advanced Institute
DESCRIPTION:MAMA’s 40th Annual Advanced Institute will provide municipal attorneys continuing legal education and networking opportunities with fellow practitioners. Held on Tuesday\, March 10\, 2026\, in Lansing\, the MAMA conference will feature a Legislative Update from MML policy experts as well as important practice information on emerging legal issues facing municipal attorneys.
URL:https://mml.org/event/2026-mama-advanced-institute/
LOCATION:Lansing Center\, 333 E. Michigan Avenue\, Lansing\, MI\, 48933\, United States
CATEGORIES:Non-League
END:VEVENT
BEGIN:VEVENT
DTSTART;TZID=America/Detroit:20251016T090000
DTEND;TZID=America/Detroit:20251016T160000
DTSTAMP:20260420T095027
CREATED:20250422T224313Z
LAST-MODIFIED:20251008T210838Z
UID:10000284-1760605200-1760630400@mml.org
SUMMARY:MAMA Municipal Law Program & Annual Meeting
DESCRIPTION:In conjunction with its Annual Meeting\, MAMA will be presenting a full-day program designed to address daily challenges facing municipal attorneys\, sharpen their skills and take advantage of a great networking opportunity. The agenda has timely and informative updates and engaging speakers. 
URL:https://mml.org/event/mama-municipal-law-program-annual-meeting/
LOCATION:The James B. Henry Center for Executive Development\, 3535 Forest Rd\, Lansing\, MI\, 48910\, United States
CATEGORIES:Non-League
END:VEVENT
BEGIN:VEVENT
DTSTART;TZID=America/Detroit:20250627T123000
DTEND;TZID=America/Detroit:20250628T210000
DTSTAMP:20260420T095027
CREATED:20250422T222915Z
LAST-MODIFIED:20250618T214232Z
UID:10000281-1751027400-1751144400@mml.org
SUMMARY:MAMA/GLS Joint Education Event
DESCRIPTION:Join the Michigan Association of Municipal Attorneys and the Government Law Section of the State Bar of Michigan for the only event designed for government and government sector lawyers that combines national and state legal experts with unparalleled networking opportunities in the beauty of northern Michigan. The agenda has timely and informative updates\, engaging speakers\, as well as the popular Beras Cup bocce ball tournament. 
URL:https://mml.org/event/mama-gls-joint-education-event/
LOCATION:Grand Traverse Resort and Spa\, 100 Grand Traverse Village Blvd\, Acme\, MI\, 49610\, United States
CATEGORIES:Non-League
END:VEVENT
END:VCALENDAR