BEGIN:VCALENDAR
VERSION:2.0
PRODID:-//MML Convention - ECPv6.15.15//NONSGML v1.0//EN
CALSCALE:GREGORIAN
METHOD:PUBLISH
X-WR-CALNAME:MML Convention
X-ORIGINAL-URL:https://mml.org/convention
X-WR-CALDESC:Events for MML Convention
REFRESH-INTERVAL;VALUE=DURATION:PT1H
X-Robots-Tag:noindex
X-PUBLISHED-TTL:PT1H
BEGIN:VTIMEZONE
TZID:America/Detroit
BEGIN:DAYLIGHT
TZOFFSETFROM:-0500
TZOFFSETTO:-0400
TZNAME:EDT
DTSTART:20240310T070000
END:DAYLIGHT
BEGIN:STANDARD
TZOFFSETFROM:-0400
TZOFFSETTO:-0500
TZNAME:EST
DTSTART:20241103T060000
END:STANDARD
BEGIN:DAYLIGHT
TZOFFSETFROM:-0500
TZOFFSETTO:-0400
TZNAME:EDT
DTSTART:20250309T070000
END:DAYLIGHT
BEGIN:STANDARD
TZOFFSETFROM:-0400
TZOFFSETTO:-0500
TZNAME:EST
DTSTART:20251102T060000
END:STANDARD
BEGIN:DAYLIGHT
TZOFFSETFROM:-0500
TZOFFSETTO:-0400
TZNAME:EDT
DTSTART:20260308T070000
END:DAYLIGHT
BEGIN:STANDARD
TZOFFSETFROM:-0400
TZOFFSETTO:-0500
TZNAME:EST
DTSTART:20261101T060000
END:STANDARD
END:VTIMEZONE
BEGIN:VEVENT
DTSTART;TZID=America/Detroit:20250430T080000
DTEND;TZID=America/Detroit:20250430T170000
DTSTAMP:20260420T122659
CREATED:20250411T181554Z
LAST-MODIFIED:20250411T181720Z
UID:10000001-1746000000-1746032400@mml.org
SUMMARY:Test Event
DESCRIPTION:Aliquip excepteur voluptate officia non amet qui duis consequat mollit ex. Reprehenderit enim veniam magna veniam laborum aute. Aliquip eiusmod aliquip duis exercitation cillum. Elit adipisicing occaecat exercitation velit et culpa mollit irure sint adipisicing magna dolor. \nAd anim aliquip amet est. Eu adipisicing dolor non eu veniam laborum dolore consectetur laborum tempor deserunt esse irure. Sunt do eu sunt irure magna esse quis minim amet magna consequat cillum id enim. Laboris mollit minim est ipsum dolor laboris adipisicing. Lorem est dolor fugiat. Non laboris amet do cupidatat aliqua deserunt. Adipisicing consectetur enim officia aliquip ipsum est. \nAd incididunt qui amet veniam minim veniam reprehenderit ut reprehenderit aliquip cillum fugiat incididunt esse aliquip. Commodo excepteur veniam nostrud anim non dolor proident. Exercitation dolore aliqua labore ea ex. Amet exercitation non qui laborum laborum adipisicing dolore consequat laboris magna. Dolore excepteur adipisicing adipisicing Lorem fugiat nulla sunt cupidatat esse non mollit. Elit ullamco ex est minim ipsum nisi amet adipisicing do. Voluptate aliquip qui tempor. \nIpsum id adipisicing eiusmod Lorem deserunt. Ut magna est aute culpa adipisicing. Ullamco reprehenderit pariatur voluptate nostrud incididunt deserunt excepteur cillum occaecat nisi tempor nisi ullamco non ipsum. Pariatur velit dolore qui voluptate id esse sit dolor sunt deserunt excepteur magna duis laborum consectetur. Adipisicing elit Lorem culpa nisi amet culpa mollit ullamco ad pariatur velit anim sit. \nElit nostrud excepteur ullamco pariatur tempor nisi excepteur excepteur sit qui veniam cupidatat in. Minim ut aliqua velit cillum ex quis quis elit Lorem. Ad cupidatat do cupidatat cillum labore consectetur aliqua sint nostrud nisi. Nulla eu laboris minim mollit eiusmod veniam magna deserunt pariatur. Anim elit enim dolor sunt incididunt ea ullamco nisi officia mollit cillum tempor veniam. Cupidatat laborum laborum et dolore est consectetur tempor anim do est enim.
URL:https://mml.org/convention/event/test-event/
END:VEVENT
BEGIN:VEVENT
DTSTART;TZID=America/Detroit:20250416T084500
DTEND;TZID=America/Detroit:20250416T101500
DTSTAMP:20260420T122659
CREATED:20250416T204340Z
LAST-MODIFIED:20250416T205601Z
UID:10000003-1744793100-1744798500@mml.org
SUMMARY:Morning General Session
DESCRIPTION:Every day we read and watch the headlines coming out of Washington\, D.C.\, but what really goes on behind the scenes? Come listen to former members of Congress as they give you a peak behind the curtain with a firsthand account of their time in our nation’s capital. You will experience an honest conversation on where they believe we stand as a country following an intense presidential election cycle\, the opportunities that lie ahead\, and the challenges we may face going forward. \nSpeakers \nThe Honorable Representative Fred Upton\, Former US Congressman\, US Congress \nThe Honorable Representative Dan Kildee\, President/CEO\, Community Foundation of Greater Flint \nDaniel P. Gilmartin\, Executive Director & CEO\, Michigan Municipal League (moderator)
URL:https://mml.org/convention/event/morning-general-session/
LOCATION:Exhibit Hall A
END:VEVENT
BEGIN:VEVENT
DTSTART;TZID=America/Detroit:20250416T080000
DTEND;TZID=America/Detroit:20250416T170000
DTSTAMP:20260420T122659
CREATED:20250416T204302Z
LAST-MODIFIED:20250416T204302Z
UID:10000002-1744790400-1744822800@mml.org
SUMMARY:Conference Registration Open
DESCRIPTION:
URL:https://mml.org/convention/event/conference-registration-open/
END:VEVENT
END:VCALENDAR